BEGIN:VCALENDAR
VERSION:2.0
PRODID:-//Nepali Calendar//EN
BEGIN:VEVENT
UID:852b16688218416f3096a205fc2e0dd3@nepalicalendar.com
DTSTAMP:20260422T204613Z
DTSTART;VALUE=DATE:20240519
DTEND;VALUE=DATE:20240520
SUMMARY:मोहिनी एकादशी व्रत
DESCRIPTION:मोहिनी एकादशी व्रत
END:VEVENT
END:VCALENDAR