BEGIN:VCALENDAR
VERSION:2.0
PRODID:-//Nepali Calendar//EN
BEGIN:VEVENT
UID:4cd176e94da6d8b8850066ba800c03f3@nepalicalendar.com
DTSTAMP:20260422T204450Z
DTSTART;VALUE=DATE:20240517
DTEND;VALUE=DATE:20240518
SUMMARY:विश्व उच्च रक्तचाप दिवस
DESCRIPTION:विश्व उच्च रक्तचाप दिवस
END:VEVENT
END:VCALENDAR