BEGIN:VCALENDAR
VERSION:2.0
PRODID:-//Nepali Calendar//EN
BEGIN:VEVENT
UID:80ec4a80b86e1b9f16143be7a6f119be@nepalicalendar.com
DTSTAMP:20260422T204311Z
DTSTART;VALUE=DATE:20240517
DTEND;VALUE=DATE:20240518
SUMMARY:विश्व दूरसञ्चार दिवस
DESCRIPTION:विश्व दूरसञ्चार दिवस
END:VEVENT
END:VCALENDAR