BEGIN:VCALENDAR
VERSION:2.0
PRODID:-//Nepali Calendar//EN
BEGIN:VEVENT
UID:955d2b08448cb247661468619340140a@nepalicalendar.com
DTSTAMP:20260422T204153Z
DTSTART;VALUE=DATE:20240516
DTEND;VALUE=DATE:20240517
SUMMARY:सीता जयन्ती
DESCRIPTION:सीता जयन्ती
END:VEVENT
END:VCALENDAR