BEGIN:VCALENDAR
VERSION:2.0
PRODID:-//Nepali Calendar//EN
BEGIN:VEVENT
UID:445ea6d69fde66b9d657d89f1e69c03a@nepalicalendar.com
DTSTAMP:20260422T204654Z
DTSTART;VALUE=DATE:20240515
DTEND;VALUE=DATE:20240516
SUMMARY:अन्तर्राष्ट्रिय परिवार दिवस
DESCRIPTION:अन्तर्राष्ट्रिय परिवार दिवस
END:VEVENT
END:VCALENDAR