BEGIN:VCALENDAR
VERSION:2.0
PRODID:-//Nepali Calendar//EN
BEGIN:VEVENT
UID:14efa1c38d69f82741e40553b00a3c3c@nepalicalendar.com
DTSTAMP:20260422T204449Z
DTSTART;VALUE=DATE:20240514
DTEND;VALUE=DATE:20240515
SUMMARY:गङ्गा सप्तमी व्रत
DESCRIPTION:गङ्गा सप्तमी व्रत
END:VEVENT
END:VCALENDAR