BEGIN:VCALENDAR
VERSION:2.0
PRODID:-//Nepali Calendar//EN
BEGIN:VEVENT
UID:0cf84b7fecde6488927961263430483b@nepalicalendar.com
DTSTAMP:20260422T204244Z
DTSTART;VALUE=DATE:20240514
DTEND;VALUE=DATE:20240515
SUMMARY:वृष संक्रान्ति
DESCRIPTION:वृष संक्रान्ति
END:VEVENT
END:VCALENDAR