BEGIN:VCALENDAR
VERSION:2.0
PRODID:-//Nepali Calendar//EN
BEGIN:VEVENT
UID:78e82af38d2a1e5190fcd8243f83ace6@nepalicalendar.com
DTSTAMP:20260422T222920Z
DTSTART;VALUE=DATE:20240512
DTEND;VALUE=DATE:20240513
SUMMARY:अन्तर्राष्ट्रिय नर्स दिवस
DESCRIPTION:अन्तर्राष्ट्रिय नर्स दिवस
END:VEVENT
END:VCALENDAR