BEGIN:VCALENDAR
VERSION:2.0
PRODID:-//Nepali Calendar//EN
BEGIN:VEVENT
UID:f1c9df1fc165bcd316f5f8f32ae7a33f@nepalicalendar.com
DTSTAMP:20260422T223222Z
DTSTART;VALUE=DATE:20240512
DTEND;VALUE=DATE:20240513
SUMMARY:रामानुजाचार्य जयन्ती
DESCRIPTION:रामानुजाचार्य जयन्ती
END:VEVENT
END:VCALENDAR