BEGIN:VCALENDAR
VERSION:2.0
PRODID:-//Nepali Calendar//EN
BEGIN:VEVENT
UID:0ef3fa6987a2057f5e16e09ae448e2f3@nepalicalendar.com
DTSTAMP:20260422T010014Z
DTSTART;VALUE=DATE:20250605
DTEND;VALUE=DATE:20250606
SUMMARY:विश्व वातावरण दिवस
DESCRIPTION:विश्व वातावरण दिवस
END:VEVENT
END:VCALENDAR