BEGIN:VCALENDAR
VERSION:2.0
PRODID:-//Nepali Calendar//EN
BEGIN:VEVENT
UID:8f3a4c5a55a3c389d542f615a3c6b0a1@nepalicalendar.com
DTSTAMP:20260422T223152Z
DTSTART;VALUE=DATE:20240512
DTEND;VALUE=DATE:20240513
SUMMARY:आद्यगुरु शंकराचार्य जयन्ती
DESCRIPTION:आद्यगुरु शंकराचार्य जयन्ती
END:VEVENT
END:VCALENDAR