BEGIN:VCALENDAR
VERSION:2.0
PRODID:-//Nepali Calendar//EN
BEGIN:VEVENT
UID:8496d40f78e38c7584c09ce5b48a4ecd@nepalicalendar.com
DTSTAMP:20260422T223120Z
DTSTART;VALUE=DATE:20240511
DTEND;VALUE=DATE:20240512
SUMMARY:बुंगद्यः जात्रा (रातो मच्छिन्द्रनाथ जात्रा)
DESCRIPTION:बुंगद्यः जात्रा (रातो मच्छिन्द्रनाथ जात्रा)
END:VEVENT
END:VCALENDAR