BEGIN:VCALENDAR
VERSION:2.0
PRODID:-//Nepali Calendar//EN
BEGIN:VEVENT
UID:a4f3c87a700df5ccfe70744089a4c20e@nepalicalendar.com
DTSTAMP:20260422T222914Z
DTSTART;VALUE=DATE:20240510
DTEND;VALUE=DATE:20240511
SUMMARY:महिला ज्योतिष संघ स्थापना दिवस
DESCRIPTION:महिला ज्योतिष संघ स्थापना दिवस
END:VEVENT
END:VCALENDAR