BEGIN:VCALENDAR
VERSION:2.0
PRODID:-//Nepali Calendar//EN
BEGIN:VEVENT
UID:1802fc5fbf7c6dbf056638c9a3074f17@nepalicalendar.com
DTSTAMP:20260422T223033Z
DTSTART;VALUE=DATE:20240510
DTEND;VALUE=DATE:20240511
SUMMARY:परशुराम जयन्ती
DESCRIPTION:परशुराम जयन्ती
END:VEVENT
END:VCALENDAR