BEGIN:VCALENDAR
VERSION:2.0
PRODID:-//Nepali Calendar//EN
BEGIN:VEVENT
UID:b21f7cb845b7dedd5f7037c613100d16@nepalicalendar.com
DTSTAMP:20260422T223054Z
DTSTART;VALUE=DATE:20240510
DTEND;VALUE=DATE:20240511
SUMMARY:अक्षय तृतीया व्रत
DESCRIPTION:अक्षय तृतीया व्रत
END:VEVENT
END:VCALENDAR