BEGIN:VCALENDAR
VERSION:2.0
PRODID:-//Nepali Calendar//EN
BEGIN:VEVENT
UID:77f9765188fb915ba9a08e56c2a1f45f@nepalicalendar.com
DTSTAMP:20260422T223152Z
DTSTART;VALUE=DATE:20240509
DTEND;VALUE=DATE:20240510
SUMMARY:बुंगद्यः (रातो मच्छिन्द्रनाथ) रथारोहण
DESCRIPTION:बुंगद्यः (रातो मच्छिन्द्रनाथ) रथारोहण
END:VEVENT
END:VCALENDAR