BEGIN:VCALENDAR
VERSION:2.0
PRODID:-//Nepali Calendar//EN
BEGIN:VEVENT
UID:63780c3918a295ce1fc6e311b2b9eccf@nepalicalendar.com
DTSTAMP:20260422T222858Z
DTSTART;VALUE=DATE:20240508
DTEND;VALUE=DATE:20240509
SUMMARY:कानुन दिवस
DESCRIPTION:कानुन दिवस
END:VEVENT
END:VCALENDAR