BEGIN:VCALENDAR
VERSION:2.0
PRODID:-//Nepali Calendar//EN
BEGIN:VEVENT
UID:a41d19cdac1dfbc5cb20a265a5bbed87@nepalicalendar.com
DTSTAMP:20260422T222737Z
DTSTART;VALUE=DATE:20240508
DTEND;VALUE=DATE:20240509
SUMMARY:विश्व रेडक्रस दिवस
DESCRIPTION:विश्व रेडक्रस दिवस
END:VEVENT
END:VCALENDAR