BEGIN:VCALENDAR
VERSION:2.0
PRODID:-//Nepali Calendar//EN
BEGIN:VEVENT
UID:a84724330e83a8ea103e66b3786d255c@nepalicalendar.com
DTSTAMP:20260422T222946Z
DTSTART;VALUE=DATE:20240508
DTEND;VALUE=DATE:20240509
SUMMARY:मातातीर्थ औंसी (आमाको मुख हेर्ने दिन)
DESCRIPTION:मातातीर्थ औंसी (आमाको मुख हेर्ने दिन)
END:VEVENT
END:VCALENDAR