BEGIN:VCALENDAR
VERSION:2.0
PRODID:-//Nepali Calendar//EN
BEGIN:VEVENT
UID:75ed95c7b482ea7ee6115b24659538ae@nepalicalendar.com
DTSTAMP:20260422T222709Z
DTSTART;VALUE=DATE:20240506
DTEND;VALUE=DATE:20240507
SUMMARY:किराँत समाज सुधार दिवस
DESCRIPTION:किराँत समाज सुधार दिवस
END:VEVENT
END:VCALENDAR