BEGIN:VCALENDAR
VERSION:2.0
PRODID:-//Nepali Calendar//EN
BEGIN:VEVENT
UID:45a98ed2379099a4647362a10df544a1@nepalicalendar.com
DTSTAMP:20260422T005947Z
DTSTART;VALUE=DATE:20250605
DTEND;VALUE=DATE:20250606
SUMMARY:गोसाइकुण्ड स्नान समाप्ति
DESCRIPTION:गोसाइकुण्ड स्नान समाप्ति
END:VEVENT
END:VCALENDAR