BEGIN:VCALENDAR
VERSION:2.0
PRODID:-//Nepali Calendar//EN
BEGIN:VEVENT
UID:5bc81ec70d9fc78a43c7d1bfef193faa@nepalicalendar.com
DTSTAMP:20260422T223222Z
DTSTART;VALUE=DATE:20240505
DTEND;VALUE=DATE:20240506
SUMMARY:विश्व हाँसाे दिवस
DESCRIPTION:विश्व हाँसाे दिवस
END:VEVENT
END:VCALENDAR