BEGIN:VCALENDAR
VERSION:2.0
PRODID:-//Nepali Calendar//EN
BEGIN:VEVENT
UID:bba8a8e579023032aee61916d4f25a83@nepalicalendar.com
DTSTAMP:20260422T223120Z
DTSTART;VALUE=DATE:20240505
DTEND;VALUE=DATE:20240506
SUMMARY:प्रदोष व्रत
DESCRIPTION:प्रदोष व्रत
END:VEVENT
END:VCALENDAR