BEGIN:VCALENDAR
VERSION:2.0
PRODID:-//Nepali Calendar//EN
BEGIN:VEVENT
UID:03133e3b61611f2693589dda5b680145@nepalicalendar.com
DTSTAMP:20260422T223032Z
DTSTART;VALUE=DATE:20240504
DTEND;VALUE=DATE:20240505
SUMMARY:बरुथिनी एकादशी व्रत
DESCRIPTION:बरुथिनी एकादशी व्रत
END:VEVENT
END:VCALENDAR