BEGIN:VCALENDAR
VERSION:2.0
PRODID:-//Nepali Calendar//EN
BEGIN:VEVENT
UID:c45cdc4b12258487b607eb7d26a2a090@nepalicalendar.com
DTSTAMP:20260422T223151Z
DTSTART;VALUE=DATE:20240503
DTEND;VALUE=DATE:20240504
SUMMARY:विश्व प्रेस स्वतन्त्रता दिवस
DESCRIPTION:विश्व प्रेस स्वतन्त्रता दिवस
END:VEVENT
END:VCALENDAR