BEGIN:VCALENDAR
VERSION:2.0
PRODID:-//Nepali Calendar//EN
BEGIN:VEVENT
UID:101eaa3d502b4c9745356012d771db60@nepalicalendar.com
DTSTAMP:20260422T222823Z
DTSTART;VALUE=DATE:20240501
DTEND;VALUE=DATE:20240502
SUMMARY:गोरखकाली पूजा
DESCRIPTION:गोरखकाली पूजा
END:VEVENT
END:VCALENDAR