BEGIN:VCALENDAR
VERSION:2.0
PRODID:-//Nepali Calendar//EN
BEGIN:VEVENT
UID:f48bf1f3a683abb3ec5c0f8a3a7e6ab0@nepalicalendar.com
DTSTAMP:20260422T222812Z
DTSTART;VALUE=DATE:20240501
DTEND;VALUE=DATE:20240502
SUMMARY:बुधाष्टमी व्रत
DESCRIPTION:बुधाष्टमी व्रत
END:VEVENT
END:VCALENDAR