BEGIN:VCALENDAR
VERSION:2.0
PRODID:-//Nepali Calendar//EN
BEGIN:VEVENT
UID:db17f284e96b0e8befab96d9f6dcdaa2@nepalicalendar.com
DTSTAMP:20260422T223053Z
DTSTART;VALUE=DATE:20240501
DTEND;VALUE=DATE:20240502
SUMMARY:अन्तर्राष्ट्रिय श्रमिक दिवस
DESCRIPTION:अन्तर्राष्ट्रिय श्रमिक दिवस
END:VEVENT
END:VCALENDAR