BEGIN:VCALENDAR
VERSION:2.0
PRODID:-//Nepali Calendar//EN
BEGIN:VEVENT
UID:ff0e19e4b4b028e41aceb154321974bf@nepalicalendar.com
DTSTAMP:20260422T222639Z
DTSTART;VALUE=DATE:20240429
DTEND;VALUE=DATE:20240430
SUMMARY:अन्तर्राष्ट्रिय नृत्य दिवस
DESCRIPTION:अन्तर्राष्ट्रिय नृत्य दिवस
END:VEVENT
END:VCALENDAR