BEGIN:VCALENDAR
VERSION:2.0
PRODID:-//Nepali Calendar//EN
BEGIN:VEVENT
UID:7f7ff97e1f68f5a509c78092c2ca873c@nepalicalendar.com
DTSTAMP:20260422T222710Z
DTSTART;VALUE=DATE:20240428
DTEND;VALUE=DATE:20240429
SUMMARY:काममा सुरक्षा र स्वास्थ्यको लागि विश्व दिवस
DESCRIPTION:काममा सुरक्षा र स्वास्थ्यको लागि विश्व दिवस
END:VEVENT
END:VCALENDAR