BEGIN:VCALENDAR
VERSION:2.0
PRODID:-//Nepali Calendar//EN
BEGIN:VEVENT
UID:912118628b4d1470142c8070c2e75512@nepalicalendar.com
DTSTAMP:20260422T222736Z
DTSTART;VALUE=DATE:20240427
DTEND;VALUE=DATE:20240428
SUMMARY:स्वामी शशिधर जन्मजयन्ती
DESCRIPTION:स्वामी शशिधर जन्मजयन्ती
END:VEVENT
END:VCALENDAR