BEGIN:VCALENDAR
VERSION:2.0
PRODID:-//Nepali Calendar//EN
BEGIN:VEVENT
UID:29a9a81ffb5d0a7c92b35ebbf11ddf36@nepalicalendar.com
DTSTAMP:20260422T005655Z
DTSTART;VALUE=DATE:20250605
DTEND;VALUE=DATE:20250606
SUMMARY:गङ्गादशहरा व्रत
DESCRIPTION:गङ्गादशहरा व्रत
END:VEVENT
END:VCALENDAR