BEGIN:VCALENDAR
VERSION:2.0
PRODID:-//Nepali Calendar//EN
BEGIN:VEVENT
UID:1d7edeb01f0c6f31d4d6fc35afe91c3c@nepalicalendar.com
DTSTAMP:20260422T222823Z
DTSTART;VALUE=DATE:20240426
DTEND;VALUE=DATE:20240427
SUMMARY:विश्व बौद्धिक सम्पत्ति दिवस
DESCRIPTION:विश्व बौद्धिक सम्पत्ति दिवस
END:VEVENT
END:VCALENDAR