BEGIN:VCALENDAR
VERSION:2.0
PRODID:-//Nepali Calendar//EN
BEGIN:VEVENT
UID:32822c12e5b85e5562c47b8d36e86781@nepalicalendar.com
DTSTAMP:20260422T222946Z
DTSTART;VALUE=DATE:20240425
DTEND;VALUE=DATE:20240426
SUMMARY:विश्व औंलो दिवस
DESCRIPTION:विश्व औंलो दिवस
END:VEVENT
END:VCALENDAR