BEGIN:VCALENDAR
VERSION:2.0
PRODID:-//Nepali Calendar//EN
BEGIN:VEVENT
UID:95969ad850c0ae0b4752b20ba16e8e65@nepalicalendar.com
DTSTAMP:20260422T222914Z
DTSTART;VALUE=DATE:20240424
DTEND;VALUE=DATE:20240425
SUMMARY:विश्व खोप सप्ताह
DESCRIPTION:विश्व खोप सप्ताह
END:VEVENT
END:VCALENDAR