BEGIN:VCALENDAR
VERSION:2.0
PRODID:-//Nepali Calendar//EN
BEGIN:VEVENT
UID:9ae9a83ffce6003c12479524c5d3bc04@nepalicalendar.com
DTSTAMP:20260422T223043Z
DTSTART;VALUE=DATE:20240424
DTEND;VALUE=DATE:20240425
SUMMARY:विसं २०७२ सालको महाभुकम्पको सम्झना
DESCRIPTION:विसं २०७२ सालको महाभुकम्पको सम्झना
END:VEVENT
END:VCALENDAR