BEGIN:VCALENDAR
VERSION:2.0
PRODID:-//Nepali Calendar//EN
BEGIN:VEVENT
UID:767e0abeb6fef667d10a3e456148805c@nepalicalendar.com
DTSTAMP:20260423T001957Z
DTSTART;VALUE=DATE:20240423
DTEND;VALUE=DATE:20240424
SUMMARY:विश्व पुस्तक तथा प्रतिलिपि अधिकार दिवस
DESCRIPTION:विश्व पुस्तक तथा प्रतिलिपि अधिकार दिवस
END:VEVENT
END:VCALENDAR