BEGIN:VCALENDAR
VERSION:2.0
PRODID:-//Nepali Calendar//EN
BEGIN:VEVENT
UID:0dd8a24c90bf9c276816649cde74e674@nepalicalendar.com
DTSTAMP:20260423T001916Z
DTSTART;VALUE=DATE:20240423
DTEND;VALUE=DATE:20240424
SUMMARY:बैसाख स्नान प्रारम्भ
DESCRIPTION:बैसाख स्नान प्रारम्भ
END:VEVENT
END:VCALENDAR