BEGIN:VCALENDAR
VERSION:2.0
PRODID:-//Nepali Calendar//EN
BEGIN:VEVENT
UID:ab2a8a557947f9852cf8f0d8c68a19c7@nepalicalendar.com
DTSTAMP:20260422T222812Z
DTSTART;VALUE=DATE:20240423
DTEND;VALUE=DATE:20240424
SUMMARY:हनुमान जयन्ती
DESCRIPTION:हनुमान जयन्ती
END:VEVENT
END:VCALENDAR