BEGIN:VCALENDAR
VERSION:2.0
PRODID:-//Nepali Calendar//EN
BEGIN:VEVENT
UID:fb1f165164dc987bab1e0a2dbd6adbb7@nepalicalendar.com
DTSTAMP:20260422T222921Z
DTSTART;VALUE=DATE:20240423
DTEND;VALUE=DATE:20240424
SUMMARY:पूर्णिमा व्रत
DESCRIPTION:पूर्णिमा व्रत
END:VEVENT
END:VCALENDAR