BEGIN:VCALENDAR
VERSION:2.0
PRODID:-//Nepali Calendar//EN
BEGIN:VEVENT
UID:4ac663f9755a9dcb141b64f52aeea1f7@nepalicalendar.com
DTSTAMP:20260422T222859Z
DTSTART;VALUE=DATE:20240423
DTEND;VALUE=DATE:20240424
SUMMARY:लोकतन्त्र दिवस
DESCRIPTION:लोकतन्त्र दिवस
END:VEVENT
END:VCALENDAR