BEGIN:VCALENDAR
VERSION:2.0
PRODID:-//Nepali Calendar//EN
BEGIN:VEVENT
UID:f9e771e54b9dec76a3da2f06ec2933a0@nepalicalendar.com
DTSTAMP:20260422T222709Z
DTSTART;VALUE=DATE:20240422
DTEND;VALUE=DATE:20240423
SUMMARY:विश्व पृथ्वी दिवस
DESCRIPTION:विश्व पृथ्वी दिवस
END:VEVENT
END:VCALENDAR