BEGIN:VCALENDAR
VERSION:2.0
PRODID:-//Nepali Calendar//EN
BEGIN:VEVENT
UID:433114f1c78a6afa763e5d41ce00ad36@nepalicalendar.com
DTSTAMP:20260422T005639Z
DTSTART;VALUE=DATE:20250604
DTEND;VALUE=DATE:20250605
SUMMARY:निर्दोष बालबालिका माथि अत्याचार विरुद्धको दिवस
DESCRIPTION:निर्दोष बालबालिका माथि अत्याचार विरुद्धको दिवस
END:VEVENT
END:VCALENDAR