BEGIN:VCALENDAR
VERSION:2.0
PRODID:-//Nepali Calendar//EN
BEGIN:VEVENT
UID:aea802f7ad8e143c46a00ef61fc73f5b@nepalicalendar.com
DTSTAMP:20260422T223043Z
DTSTART;VALUE=DATE:20240421
DTEND;VALUE=DATE:20240422
SUMMARY:प्रदोष व्रत
DESCRIPTION:प्रदोष व्रत
END:VEVENT
END:VCALENDAR