BEGIN:VCALENDAR
VERSION:2.0
PRODID:-//Nepali Calendar//EN
BEGIN:VEVENT
UID:87a793f89865f52049a735465a3a0497@nepalicalendar.com
DTSTAMP:20260422T222914Z
DTSTART;VALUE=DATE:20240421
DTEND;VALUE=DATE:20240422
SUMMARY:महावीर जयन्ती
DESCRIPTION:महावीर जयन्ती
END:VEVENT
END:VCALENDAR