BEGIN:VCALENDAR
VERSION:2.0
PRODID:-//Nepali Calendar//EN
BEGIN:VEVENT
UID:b9c7605c33faa6b5decd45372fd94aaf@nepalicalendar.com
DTSTAMP:20260422T222811Z
DTSTART;VALUE=DATE:20240420
DTEND;VALUE=DATE:20240421
SUMMARY:छन्द दिवस
DESCRIPTION:छन्द दिवस
END:VEVENT
END:VCALENDAR