BEGIN:VCALENDAR
VERSION:2.0
PRODID:-//Nepali Calendar//EN
BEGIN:VEVENT
UID:72a5ae0454b130cb42032aabb7fff019@nepalicalendar.com
DTSTAMP:20260422T223222Z
DTSTART;VALUE=DATE:20240419
DTEND;VALUE=DATE:20240420
SUMMARY:कामदा एकादशी व्रत
DESCRIPTION:कामदा एकादशी व्रत
END:VEVENT
END:VCALENDAR