BEGIN:VCALENDAR
VERSION:2.0
PRODID:-//Nepali Calendar//EN
BEGIN:VEVENT
UID:abb3d69e9b8ae45a9768ea4fdcc61751@nepalicalendar.com
DTSTAMP:20260422T223054Z
DTSTART;VALUE=DATE:20240418
DTEND;VALUE=DATE:20240419
SUMMARY:विश्व सम्पदा दिवस
DESCRIPTION:विश्व सम्पदा दिवस
END:VEVENT
END:VCALENDAR