BEGIN:VCALENDAR
VERSION:2.0
PRODID:-//Nepali Calendar//EN
BEGIN:VEVENT
UID:ecf78eefd098005f13fad62903c1ca96@nepalicalendar.com
DTSTAMP:20260422T222639Z
DTSTART;VALUE=DATE:20240417
DTEND;VALUE=DATE:20240418
SUMMARY:श्री राम नवमी व्रत
DESCRIPTION:श्री राम नवमी व्रत
END:VEVENT
END:VCALENDAR