BEGIN:VCALENDAR
VERSION:2.0
PRODID:-//Nepali Calendar//EN
BEGIN:VEVENT
UID:da4f5aa2e4916ff1e8a42761e735a7d9@nepalicalendar.com
DTSTAMP:20260422T222730Z
DTSTART;VALUE=DATE:20240416
DTEND;VALUE=DATE:20240417
SUMMARY:भाैमाष्टमी व्रत
DESCRIPTION:भाैमाष्टमी व्रत
END:VEVENT
END:VCALENDAR